BEGIN:VCALENDAR
VERSION:2.0
PRODID:-//Konfuzius-Institut Metropole Ruhr e.V. - ECPv6.15.20//NONSGML v1.0//EN
CALSCALE:GREGORIAN
METHOD:PUBLISH
X-WR-CALNAME:Konfuzius-Institut Metropole Ruhr e.V.
X-ORIGINAL-URL:https://konfuzius-institut-ruhr.de
X-WR-CALDESC:Veranstaltungen für Konfuzius-Institut Metropole Ruhr e.V.
REFRESH-INTERVAL;VALUE=DURATION:PT1H
X-Robots-Tag:noindex
X-PUBLISHED-TTL:PT1H
BEGIN:VTIMEZONE
TZID:Europe/Berlin
BEGIN:DAYLIGHT
TZOFFSETFROM:+0100
TZOFFSETTO:+0200
TZNAME:CEST
DTSTART:20230326T010000
END:DAYLIGHT
BEGIN:STANDARD
TZOFFSETFROM:+0200
TZOFFSETTO:+0100
TZNAME:CET
DTSTART:20231029T010000
END:STANDARD
BEGIN:DAYLIGHT
TZOFFSETFROM:+0100
TZOFFSETTO:+0200
TZNAME:CEST
DTSTART:20240331T010000
END:DAYLIGHT
BEGIN:STANDARD
TZOFFSETFROM:+0200
TZOFFSETTO:+0100
TZNAME:CET
DTSTART:20241027T010000
END:STANDARD
BEGIN:DAYLIGHT
TZOFFSETFROM:+0100
TZOFFSETTO:+0200
TZNAME:CEST
DTSTART:20250330T010000
END:DAYLIGHT
BEGIN:STANDARD
TZOFFSETFROM:+0200
TZOFFSETTO:+0100
TZNAME:CET
DTSTART:20251026T010000
END:STANDARD
END:VTIMEZONE
BEGIN:VEVENT
DTSTART;TZID=Europe/Berlin:20240615T103000
DTEND;TZID=Europe/Berlin:20240615T120000
DTSTAMP:20260422T122454
CREATED:20230816T080000Z
LAST-MODIFIED:20241001T113857Z
UID:9635-1718447400-1718452800@konfuzius-institut-ruhr.de
SUMMARY:Das Drachenbootfest | Workshop-Reihe für Kinder
DESCRIPTION:Beim Drachenbootfest gibt es nicht nur Drachenbootrennen\, sondern auch jede Menge Zongzi\, kleine Klebreisbällchen mit verschiedenen Füllungen. Gemeinsam wollen wir etwas über die Traditionen des Festes erfahren und einen langen Papierdrachen basteln. \nEinmal im Monat bietet das Team des Konfuzius-Instituts Workshops für Kinder von 6-12 Jahren an. Das erwartet Euch: Interessante Infos über das Leben im Reich der Mitte\, ein Kulturangebot zum Mitmachen und die Chance\, in die chinesische Sprache rein zu schnuppern. \nDie Teilnahme ist kostenlos\, eine Anmeldung erforderlich.\nUnsere Altersempfehlung: 6-12 Jahre\nJüngere Kinder können mit Begleitperson teilnehmen. \nHinweis Veranstaltungsort\nUnsere Kinderworkshops finden an unterschiedlichen Orten in Duisburg statt. \nEine Veranstaltung in Kooperation mit der Stadtbibliothek Duisburg. \nHerzlich willkommen! \n\nWorkshop-Reihe für Kinder\nWeitere Termine
URL:https://konfuzius-institut-ruhr.de/veranstaltung/drachenboot_2024/
LOCATION:Schul- und Stadtteilbibliothek  Gesamtschule Süd\, Großenbaumer Allee 168\, Duisburg\, 47269
CATEGORIES:China erleben,Chinesische Feste,Chinesische Sprache,Interkulturelle Kompetenzen,Kulturvermittlung,Workshops für Kinder
ATTACH;FMTTYPE=image/png:https://konfuzius-institut-ruhr.de/wp-content/uploads/2024/01/drachenboot_baiqitun_wenhua_konfuzius-institut-e1704736697673.png
END:VEVENT
END:VCALENDAR