BEGIN:VCALENDAR
VERSION:2.0
PRODID:-//Konfuzius-Institut Metropole Ruhr e.V. - ECPv6.15.20//NONSGML v1.0//EN
CALSCALE:GREGORIAN
METHOD:PUBLISH
X-WR-CALNAME:Konfuzius-Institut Metropole Ruhr e.V.
X-ORIGINAL-URL:https://konfuzius-institut-ruhr.de
X-WR-CALDESC:Veranstaltungen für Konfuzius-Institut Metropole Ruhr e.V.
REFRESH-INTERVAL;VALUE=DURATION:PT1H
X-Robots-Tag:noindex
X-PUBLISHED-TTL:PT1H
BEGIN:VTIMEZONE
TZID:Europe/Berlin
BEGIN:DAYLIGHT
TZOFFSETFROM:+0100
TZOFFSETTO:+0200
TZNAME:CEST
DTSTART:20240331T010000
END:DAYLIGHT
BEGIN:STANDARD
TZOFFSETFROM:+0200
TZOFFSETTO:+0100
TZNAME:CET
DTSTART:20241027T010000
END:STANDARD
BEGIN:DAYLIGHT
TZOFFSETFROM:+0100
TZOFFSETTO:+0200
TZNAME:CEST
DTSTART:20250330T010000
END:DAYLIGHT
BEGIN:STANDARD
TZOFFSETFROM:+0200
TZOFFSETTO:+0100
TZNAME:CET
DTSTART:20251026T010000
END:STANDARD
BEGIN:DAYLIGHT
TZOFFSETFROM:+0100
TZOFFSETTO:+0200
TZNAME:CEST
DTSTART:20260329T010000
END:DAYLIGHT
BEGIN:STANDARD
TZOFFSETFROM:+0200
TZOFFSETTO:+0100
TZNAME:CET
DTSTART:20261025T010000
END:STANDARD
END:VTIMEZONE
BEGIN:VEVENT
DTSTART;VALUE=DATE:20250427
DTEND;VALUE=DATE:20250428
DTSTAMP:20260419T200043
CREATED:20230308T120610Z
LAST-MODIFIED:20250403T120706Z
UID:12337-1745712000-1745798399@konfuzius-institut-ruhr.de
SUMMARY:Anmeldeschluss Team: Drachenboot-Fun-Regatta | Geht am 15. Juni mit uns an Bord! | Trainings und Renntag
DESCRIPTION:Anmeldung bis 27.04. hier möglich | Geht mit uns an den Start bei der Drachenboot-Fun-Regatta im Duisburger Innenhafen. Die traditionsreiche Veranstaltung ist für alle Beteiligte und Zuschauer immer ein fröhliches\, spannendes und vor allem sportliches Erlebnis. Wir sind wieder dabei! \nWanted: Drachenboot-Team 2025\nSei dabei und bring your friends! Alle Interessierten sind herzlich willkommen. Steigt zum Training und am 15.06.2025 mit uns ins Drachenboot! Wir freuen uns auf einen tollen Tag mit einem überzeugenden Team. Willkommen an Bord!\n \nAnmeldeschluss ist der 27.04.2025. \nTermine gemeinsames Training\nIm Vorfeld des Rennens wird es zwei oder drei Trainingseinheiten an der Seenplatte Duisburg geben.\nDie Teilnahme an den Trainingseinheiten ist Voraussetzung für eine optimale Teamleistung und maximalen Spaß am Event. \nTraining Session Nr. 1: Termin steht noch nicht fest\nTraining Session Nr. 2:  Termin steht noch nicht fest\n(Training Session Nr. 3?:  Steht noch nicht fest) \nTreffpunkt Training: Sechs-Seen-Platte Duisburg \nWeiter zum Anmeldeformular \nRückblick 2024
URL:https://konfuzius-institut-ruhr.de/veranstaltung/team_gesucht_drachenboot-fun-regatta-2025/
LOCATION:Innenhafen Duisburg\, Schifferstr. 182\, Duisburg\, 47059\, Germany
CATEGORIES:China erleben
ATTACH;FMTTYPE=image/png:https://konfuzius-institut-ruhr.de/wp-content/uploads/2023/05/1-e1684321256617.png
END:VEVENT
END:VCALENDAR