BEGIN:VCALENDAR
VERSION:2.0
PRODID:-//Konfuzius-Institut Metropole Ruhr e.V. - ECPv6.15.20//NONSGML v1.0//EN
CALSCALE:GREGORIAN
METHOD:PUBLISH
X-WR-CALNAME:Konfuzius-Institut Metropole Ruhr e.V.
X-ORIGINAL-URL:https://konfuzius-institut-ruhr.de
X-WR-CALDESC:Veranstaltungen für Konfuzius-Institut Metropole Ruhr e.V.
REFRESH-INTERVAL;VALUE=DURATION:PT1H
X-Robots-Tag:noindex
X-PUBLISHED-TTL:PT1H
BEGIN:VTIMEZONE
TZID:Europe/Berlin
BEGIN:DAYLIGHT
TZOFFSETFROM:+0100
TZOFFSETTO:+0200
TZNAME:CEST
DTSTART:20250330T010000
END:DAYLIGHT
BEGIN:STANDARD
TZOFFSETFROM:+0200
TZOFFSETTO:+0100
TZNAME:CET
DTSTART:20251026T010000
END:STANDARD
BEGIN:DAYLIGHT
TZOFFSETFROM:+0100
TZOFFSETTO:+0200
TZNAME:CEST
DTSTART:20260329T010000
END:DAYLIGHT
BEGIN:STANDARD
TZOFFSETFROM:+0200
TZOFFSETTO:+0100
TZNAME:CET
DTSTART:20261025T010000
END:STANDARD
BEGIN:DAYLIGHT
TZOFFSETFROM:+0100
TZOFFSETTO:+0200
TZNAME:CEST
DTSTART:20270328T010000
END:DAYLIGHT
BEGIN:STANDARD
TZOFFSETFROM:+0200
TZOFFSETTO:+0100
TZNAME:CET
DTSTART:20271031T010000
END:STANDARD
END:VTIMEZONE
BEGIN:VEVENT
DTSTART;TZID=Europe/Berlin:20260425T153000
DTEND;TZID=Europe/Berlin:20260425T153000
DTSTAMP:20260425T021558
CREATED:20240426T115914Z
LAST-MODIFIED:20260318T140046Z
UID:13804-1777131000-1777131000@konfuzius-institut-ruhr.de
SUMMARY:Kurs: Einführung in die Welt der Blüten-Tees – oh du schöne Jasminblüte | In Kooperation mit der VHS Duisburg
DESCRIPTION:Hier buchen auf der Webseite der VHS Duisburg  | Es ist Frühling – alles wächst\, alles blüht. Eine Auswahl der farbenfrohen Blütenpracht könnte sich auch in unseren Tassen wiederfinden. Schon seit jeher werden Tees zusammen mit Blüten und Kräutern aufgegossen. In diesem Workshop geht es um Blüten- und Kräutertees\, welche die „echten“ Tees komplimentieren. Teekennerin Liyang Sheng führt im Rahmen einer Teeverkostung durch die faszinierende Welt der chinesischen Teekultur. Die Teilnehmenden lernen\, welche Tees\, Blüten und Kräuter besonders gut zusammenpassen\, warum im Jasmintee keine Jasminblüten zu sehen sind und welcher Schatz aus den geheimnisvollen Kunlun-Bergen kommt. \nEs werden hochwertige lose Tees sowie Blüten- und Kräutertees nach einer chinesischen Zubereitungsmethode aufgebrüht\, die die Aromen und Geschmäcker der Tees besonders intensiv zur Geltung kommen lässt. \nTeilnahmegebühr: 29 EUR (erm. 22/17/17) \nDie Tees sind in der Teilnahmegebühr mit inbegriffen. \nIn Kooperation mit der VHS Duisburg. \nHier buchen – weiter zur Webseite der VHS Duisburg  \nKulturelle Angebote Konfuzius-Institut\nDas Konfuzius-Institut Metropole Ruhr steht allen in der Region offen – von Schülerinnen und Schülern über Studierende bis hin zu allen mit einem beruflichem oder privatem China-Interesse. \nChinesischkurse stehen im Fokus. Dabei gehören Spracherwerb und kulturelle Erlebnisse bei uns untrennbar zusammen. Deshalb gestaltet unser deutsch-chinesisches Team ein vielseitiges Programm aus Festen\, Workshops und Kulturveranstaltungen und engagiert sich darüber hinaus aktiv in der regionalen Kulturszene in Duisburg und dem Ruhrgebiet. \nMit unseren Sprachkursen\, Stipendien\, Vorträgen und Dialogrunden zu Chinas Wirtschaft\, Politik und Gesellschaft fördern wir den Austausch zwischen China und dem Ruhrgebiet. Wir bieten eine fundierte Orientierung für alle\, die mehr über China erfahren möchten – privat\, beruflich oder für Schule und Studium. \nGetragen wird das Konfuzius-Institut von der Universität Duisburg-Essen und der Universität Wuhan. \nChina erleben – ein Klick in unseren Kalender
URL:https://konfuzius-institut-ruhr.de/veranstaltung/einfuehrung-in-die-welt-der-blueten-tees/
LOCATION:Konfuzius-Institut Metropole Ruhr e.V.\, Bismarckstr. 120 (Tectrum)\, 47057 Duisburg (Neudorf) - Bitte bei Anreise mit dem Navi den Ortsteil oder die Postleitzahl angeben.
CATEGORIES:China erleben,Kulturvermittlung,Teeverkostung,Zu Gast am Konfuzius-Institut
ATTACH;FMTTYPE=image/jpeg:https://konfuzius-institut-ruhr.de/wp-content/uploads/2023/11/Tee_Workshop_03_breitbild-scaled-e1701084239176.jpg
END:VEVENT
END:VCALENDAR