BEGIN:VCALENDAR
VERSION:2.0
PRODID:-//Konfuzius-Institut Metropole Ruhr e.V. - ECPv6.15.20//NONSGML v1.0//EN
CALSCALE:GREGORIAN
METHOD:PUBLISH
X-WR-CALNAME:Konfuzius-Institut Metropole Ruhr e.V.
X-ORIGINAL-URL:https://konfuzius-institut-ruhr.de
X-WR-CALDESC:Veranstaltungen für Konfuzius-Institut Metropole Ruhr e.V.
REFRESH-INTERVAL;VALUE=DURATION:PT1H
X-Robots-Tag:noindex
X-PUBLISHED-TTL:PT1H
BEGIN:VTIMEZONE
TZID:Europe/Berlin
BEGIN:DAYLIGHT
TZOFFSETFROM:+0100
TZOFFSETTO:+0200
TZNAME:CEST
DTSTART:20230326T010000
END:DAYLIGHT
BEGIN:STANDARD
TZOFFSETFROM:+0200
TZOFFSETTO:+0100
TZNAME:CET
DTSTART:20231029T010000
END:STANDARD
BEGIN:DAYLIGHT
TZOFFSETFROM:+0100
TZOFFSETTO:+0200
TZNAME:CEST
DTSTART:20240331T010000
END:DAYLIGHT
BEGIN:STANDARD
TZOFFSETFROM:+0200
TZOFFSETTO:+0100
TZNAME:CET
DTSTART:20241027T010000
END:STANDARD
BEGIN:DAYLIGHT
TZOFFSETFROM:+0100
TZOFFSETTO:+0200
TZNAME:CEST
DTSTART:20250330T010000
END:DAYLIGHT
BEGIN:STANDARD
TZOFFSETFROM:+0200
TZOFFSETTO:+0100
TZNAME:CET
DTSTART:20251026T010000
END:STANDARD
END:VTIMEZONE
BEGIN:VEVENT
DTSTART;VALUE=DATE:20240505
DTEND;VALUE=DATE:20240506
DTSTAMP:20260422T121508
CREATED:20230308T120610Z
LAST-MODIFIED:20241001T114223Z
UID:10381-1714867200-1714953599@konfuzius-institut-ruhr.de
SUMMARY:Anmeldeschluss: Drachenboot-Fun-Regatta - Die Gelben Kraniche starten in 2024!
DESCRIPTION:Willkommen an Bord! Jetzt anmelden | Das Team ist fast komplett – nehmt gern noch Platz! Wir freuen uns insbesondere auch über Frauenpower\, denn eine gewisse Zahl Frauen pro Team ist vom Veranstalter vorgegeben. Steigt mit den Gelben Kranichen ins Boot! Beim Sommerfest im Duisburger Innenhafen wollen wir auch dieses Jahr wieder mit den „Die Gelben Kranichen“ 黄金鹤 (huang jin he) bei der Drachenboot-Fun-Regatta an den Start gehen. \nWir suchen derzeit noch eine*n Kapitän*in für die diesjährige Fun-Regatta.\nWer übernimmt die Teamleitung? Für die organisatorischen Aufgaben bieten wir dem Käpt`n (m/w/d) eine Aufwandsentschädigung in Höhe von ca. 150€ an (Übungsleitervertrag). Interessiert? In dem Fall freuen wir uns über einen Hinweis im Feld „Nachricht an uns“. \nZeitlicher Umfang für das Team: Voraussichtlich zwei bis drei Trainingseinheiten im Mai sowie Anwesenheit am Funcup-Tag selbst. \nBewerbung/Anmeldung für Kapitän*in und Besatzung \n„Die Gelben Kraniche“ 黄金鹤 (huang jin he)\nDas Team „Die Gelben Kraniche“\, wird vom Konfuzius-Institut Metropole Ruhr gesponsert. Der Teamname ist eine Hommage an die Duisburger Partnerstadt Wuhan. Dort befindet sich der Gelbe Kranichfelsen mit der berühmten Pagode\, ein Wahrzeichen der Stadt. \nTermine gemeinsames Training\nIm Vorfeld des Rennens wird es zwei bis drei Trainingseinheiten an der Seenplatte Duisburg geben.\nDie Teilnahme an den Trainingseinheiten ist Voraussetzung für eine optimale Teamleistung und maximalen Spaß am Event. \nTraining Session Nr. 1: Datum steht noch nicht fest\nTraining Session Nr. 2: Datum steht noch nicht fest\nTraining Session Nr. 3: Datum steht noch nicht fest \nTreffpunkt Training: Sechs-Seen-Platte Duisburg \nWer kann mitmachen?\nTeilnahmebedingung: Ihr könnt sicher schwimmen.\nAb dem 15. Lebensjahr seid Ihr willkommen an Bord.
URL:https://konfuzius-institut-ruhr.de/veranstaltung/drachenboot-fun-regatta-die-gelben-kraniche-starten-in-2024-2/
LOCATION:Innenhafen Duisburg\, Schifferstr. 182\, Duisburg\, 47059\, Germany
CATEGORIES:China erleben
ATTACH;FMTTYPE=image/png:https://konfuzius-institut-ruhr.de/wp-content/uploads/2023/05/1-e1684321256617.png
END:VEVENT
END:VCALENDAR