BEGIN:VCALENDAR
VERSION:2.0
PRODID:-//Konfuzius-Institut Metropole Ruhr e.V. - ECPv6.15.20//NONSGML v1.0//EN
CALSCALE:GREGORIAN
METHOD:PUBLISH
X-ORIGINAL-URL:https://konfuzius-institut-ruhr.de
X-WR-CALDESC:Veranstaltungen für Konfuzius-Institut Metropole Ruhr e.V.
REFRESH-INTERVAL;VALUE=DURATION:PT1H
X-Robots-Tag:noindex
X-PUBLISHED-TTL:PT1H
BEGIN:VTIMEZONE
TZID:Europe/Berlin
BEGIN:DAYLIGHT
TZOFFSETFROM:+0100
TZOFFSETTO:+0200
TZNAME:CEST
DTSTART:20240331T010000
END:DAYLIGHT
BEGIN:STANDARD
TZOFFSETFROM:+0200
TZOFFSETTO:+0100
TZNAME:CET
DTSTART:20241027T010000
END:STANDARD
BEGIN:DAYLIGHT
TZOFFSETFROM:+0100
TZOFFSETTO:+0200
TZNAME:CEST
DTSTART:20250330T010000
END:DAYLIGHT
BEGIN:STANDARD
TZOFFSETFROM:+0200
TZOFFSETTO:+0100
TZNAME:CET
DTSTART:20251026T010000
END:STANDARD
BEGIN:DAYLIGHT
TZOFFSETFROM:+0100
TZOFFSETTO:+0200
TZNAME:CEST
DTSTART:20260329T010000
END:DAYLIGHT
BEGIN:STANDARD
TZOFFSETFROM:+0200
TZOFFSETTO:+0100
TZNAME:CET
DTSTART:20261025T010000
END:STANDARD
END:VTIMEZONE
BEGIN:VEVENT
DTSTART;VALUE=DATE:20250615
DTEND;VALUE=DATE:20250616
DTSTAMP:20260419T150953
CREATED:20230308T120610Z
LAST-MODIFIED:20250514T184422Z
UID:11599-1749945600-1750031999@konfuzius-institut-ruhr.de
SUMMARY:Sommerfest & Renntag Drachenboot-Fun-Regatta | Geht an Bord & Meet our Team!
DESCRIPTION:Drachenboot-Fun-Regatta im Duisburger Innenhafen | Die traditionsreiche Veranstaltung ist für alle Beteiligte und Zuschauer immer ein fröhliches\, spannendes und vor allem sportliches Erlebnis. Wir sind wieder dabei\, fiebern Sie mit mit unserem Team im Drachenboot!  \nHerzlich willkommen an unserem Stand! Hier reichen wir einen erfrischenden Tee – so lange der Vorrat reicht. Für die Jüngsten bringen wir eine schöne Mitmachaktion mit. \nTeam-Training\nUnser Team trainiert an folgenden Terminen:\nSa\, 31.05. um 15:00 Uhr\nSo\, 01.06 um 12:00 Uhr\nFr\, 06.06 um 20:30 Uhr \nBesucht uns am Infostand!\nEs sind wieder tolle Aktionen geplant. \nRückblick 2024
URL:https://konfuzius-institut-ruhr.de/veranstaltung/drachenboot-fun-regatta-2025/
LOCATION:Innenhafen Duisburg\, Schifferstr. 182\, Duisburg\, 47059\, Germany
CATEGORIES:China erleben
ATTACH;FMTTYPE=image/png:https://konfuzius-institut-ruhr.de/wp-content/uploads/2023/05/1-e1684321256617.png
END:VEVENT
END:VCALENDAR